BEGIN:VCALENDAR
VERSION:2.0
PRODID:-//wp-events-plugin.com//7.2.3.1//EN
TZID:Europe/Berlin
X-WR-TIMEZONE:Europe/Berlin
BEGIN:VEVENT
UID:18@herz-kiste.ch
DTSTART;TZID=Europe/Berlin:20231118T133000
DTEND;TZID=Europe/Berlin:20231118T163000
DTSTAMP:20231102T132344Z
URL:https://www.herz-kiste.ch/kurse/karten-selber-machen-18nov23/
SUMMARY:Karten selber machen (Weihnachtsedition)
DESCRIPTION:Nie mehr Karten kaufen! Wir gestalten im Kurs zusammen verschie
 dene Karten\, so dass du in Zukunft ganz einfach für jeden Anlass eine Ka
 rte gestalten kannst. Thematisch liegt unser Schwerpunkt auf Weihnachtskar
 ten. Die Techniken kannst du aber für alle möglichen Anlässe anwenden.\
 n\n&nbsp\;\n\nVorkenntnisse im Lettering sind nicht nötig. (Ich empfehle 
 dir aber z.B. den Handlettering Basic Kurs. Diese beiden Kurse kombiniert\
 , sind perfekt für deine selbstgemachten Karten.)\n\n&nbsp\;\nInhalt:\n\n
  	Grundlagen zum Karten basteln\n 	verschiedene Techniken um Karten zu ges
 talten\n 	viele Tipps &amp\; Tricks und Beispiele\n\n&nbsp\;\n\nIm Preis i
 nbegriffen: Starterset für eigene Karten\, Gebrauchsmaterial während dem
  Kurs sowie eine leichte Verpflegung inkl. Getränke.
ATTACH;FMTTYPE=image/jpeg:https://www.herz-kiste.ch/wp-content/uploads/202
 0/04/galerie-karte-lettering-alles-liebe-hochzeit.jpg
CATEGORIES:Kreativ Workshop
LOCATION:Schlosswil\, Riedstrasse 14\, Schlosswil\, 3082\, Schweiz
X-APPLE-STRUCTURED-LOCATION;VALUE=URI;X-ADDRESS=Riedstrasse 14\, Schlosswil
 \, 3082\, Schweiz;X-APPLE-RADIUS=100;X-TITLE=Schlosswil:geo:0,0
END:VEVENT
BEGIN:VTIMEZONE
TZID:Europe/Berlin
X-LIC-LOCATION:Europe/Berlin
BEGIN:STANDARD
DTSTART:20231029T020000
TZOFFSETFROM:+0200
TZOFFSETTO:+0100
TZNAME:CET
END:STANDARD
END:VTIMEZONE
END:VCALENDAR