BEGIN:VCALENDAR
VERSION:2.0
PRODID:-//wp-events-plugin.com//7.2.3.1//EN
TZID:Europe/Berlin
X-WR-TIMEZONE:Europe/Berlin
BEGIN:VEVENT
UID:12@herz-kiste.ch
DTSTART;TZID=Europe/Berlin:20231021T090000
DTEND;TZID=Europe/Berlin:20231021T120000
DTSTAMP:20230927T094612Z
URL:https://www.herz-kiste.ch/kurse/handlettering-basics-21okt23/
SUMMARY:Handlettering Basics
DESCRIPTION:Handlettering heisst\, mit Buchstaben gestalten. In diesem Anf
 änger:innen-Kurs lernst du\, wie du mit ganz einfachen Möglichkeiten und
  Ideen selbst schöne Wörter gestalten kannst.\n\nDu lernst die Grundlage
 n vom Handlettering\, lernst verschiedene Schriftstile und gestaltest eine
  eigene Karte. Du brauchst keine schöne Handschrift\, sondern einfach Fre
 ude daran\, mit Buchstaben gestalten zu können.\nInhalt:\n\n 	Gestalten e
 ines Hintergrundes im Watercolor-Stil\n 	Grundlagen Handlettering\n 	Vorla
 gen mit verschiedenen Alphabeten\n 	Tipps &amp\; Tricks\n 	Praktisches Üb
 en\n 	Zum Abschluss gestaltest du direkt im Kurs eine Karte mit Handletter
 ing: Von A-Z selbstgemacht und individuell gestaltet\n\n&nbsp\;\n\nIm Prei
 s inbegriffen: Starterset mit verschiedenen Stiften\, ein Handlettering-Do
 ssier\, das Gebrauchsmaterial während dem Kurs sowie eine leichte Verpfle
 gung inkl. Getränke\n\n&nbsp\;\nTickets:\n\n\n&nbsp\;\n\nDurchgeführt wi
 rd der Kurs ab 4 Personen. Damit du auch individuelle Betreuung\, Tipps un
 d Hilfe von mir bekommst\, gibt es maximal 7 Plätze.
ATTACH;FMTTYPE=image/jpeg:https://www.herz-kiste.ch/wp-content/uploads/202
 2/04/handlettering-karten-bsp-alphabete.jpg
CATEGORIES:Lettering Workshop
LOCATION:Schlosswil\, Riedstrasse 14\, Schlosswil\, 3082\, Schweiz
X-APPLE-STRUCTURED-LOCATION;VALUE=URI;X-ADDRESS=Riedstrasse 14\, Schlosswil
 \, 3082\, Schweiz;X-APPLE-RADIUS=100;X-TITLE=Schlosswil:geo:0,0
END:VEVENT
BEGIN:VTIMEZONE
TZID:Europe/Berlin
X-LIC-LOCATION:Europe/Berlin
BEGIN:DAYLIGHT
DTSTART:20230326T030000
TZOFFSETFROM:+0100
TZOFFSETTO:+0200
TZNAME:CEST
END:DAYLIGHT
END:VTIMEZONE
END:VCALENDAR