BEGIN:VCALENDAR
VERSION:2.0
PRODID:-//wp-events-plugin.com//7.2.3.1//EN
TZID:Europe/Berlin
X-WR-TIMEZONE:Europe/Berlin
BEGIN:VEVENT
UID:17@herz-kiste.ch
DTSTART;TZID=Europe/Berlin:20231021T133000
DTEND;TZID=Europe/Berlin:20231021T163000
DTSTAMP:20230927T094737Z
URL:https://www.herz-kiste.ch/kurse/brush-lettering-aufbaukurs-21okt23/
SUMMARY:Brush Lettering Aufbaukurs
DESCRIPTION:Du hast schon etwas Erfahrung im Brush Lettering und möchtest 
 deine Schrift verbessern und deinen Letterings das gewisse Etwas verleihen
 ? Dann ist dieser Fortgeschrittenenkurs das Richtige für dich!\n\n&nbsp\;
 \n\nEinerseits stehe ich dir mit vielen Tipps &amp\; Tricks zur Seite und 
 schaue mit dir individuell und persönlich\, wo und wie du dich verbessern
  kannst. Zudem schauen wir uns verschiedene Techniken an und du bekommst T
 ipps zum Gestalten von Brush Lettering.\n\n&nbsp\;\nInhalt:\n\n 	Grossbuch
 staben und Buchstabenverbindungen\n 	Schatten und Verzierungen\n 	Tipps &a
 mp\; Tricks\n 	Praktisches Üben und Verbessern\n\n&nbsp\;\nTickets:\n\nDu
 rchgeführt wird der Kurs ab 4 Personen. Damit du auch individuelle Betreu
 ung\, Tipps und Hilfe von mir bekommst\, gibt es maximal 7 Plätze.
ATTACH;FMTTYPE=image/jpeg:https://www.herz-kiste.ch/wp-content/uploads/202
 3/04/lettering-mit-schatten-fuer-dich.jpg
CATEGORIES:Lettering Workshop
LOCATION:Schlosswil\, Riedstrasse 14\, Schlosswil\, 3082\, Schweiz
X-APPLE-STRUCTURED-LOCATION;VALUE=URI;X-ADDRESS=Riedstrasse 14\, Schlosswil
 \, 3082\, Schweiz;X-APPLE-RADIUS=100;X-TITLE=Schlosswil:geo:0,0
END:VEVENT
BEGIN:VTIMEZONE
TZID:Europe/Berlin
X-LIC-LOCATION:Europe/Berlin
BEGIN:DAYLIGHT
DTSTART:20230326T030000
TZOFFSETFROM:+0100
TZOFFSETTO:+0200
TZNAME:CEST
END:DAYLIGHT
END:VTIMEZONE
END:VCALENDAR